BEGIN:VCALENDAR
VERSION:2.0
PRODID:-//RCCG House of God - ECPv6.15.14//NONSGML v1.0//EN
CALSCALE:GREGORIAN
METHOD:PUBLISH
X-ORIGINAL-URL:https://rccghogwi.org
X-WR-CALDESC:Events for RCCG House of God
REFRESH-INTERVAL;VALUE=DURATION:PT1H
X-Robots-Tag:noindex
X-PUBLISHED-TTL:PT1H
BEGIN:VTIMEZONE
TZID:America/New_York
BEGIN:DAYLIGHT
TZOFFSETFROM:-0500
TZOFFSETTO:-0400
TZNAME:EDT
DTSTART:20240310T070000
END:DAYLIGHT
BEGIN:STANDARD
TZOFFSETFROM:-0400
TZOFFSETTO:-0500
TZNAME:EST
DTSTART:20241103T060000
END:STANDARD
BEGIN:DAYLIGHT
TZOFFSETFROM:-0500
TZOFFSETTO:-0400
TZNAME:EDT
DTSTART:20250309T070000
END:DAYLIGHT
BEGIN:STANDARD
TZOFFSETFROM:-0400
TZOFFSETTO:-0500
TZNAME:EST
DTSTART:20251102T060000
END:STANDARD
BEGIN:DAYLIGHT
TZOFFSETFROM:-0500
TZOFFSETTO:-0400
TZNAME:EDT
DTSTART:20260308T070000
END:DAYLIGHT
BEGIN:STANDARD
TZOFFSETFROM:-0400
TZOFFSETTO:-0500
TZNAME:EST
DTSTART:20261101T060000
END:STANDARD
BEGIN:DAYLIGHT
TZOFFSETFROM:-0500
TZOFFSETTO:-0400
TZNAME:EDT
DTSTART:20270314T070000
END:DAYLIGHT
BEGIN:STANDARD
TZOFFSETFROM:-0400
TZOFFSETTO:-0500
TZNAME:EST
DTSTART:20271107T060000
END:STANDARD
END:VTIMEZONE
BEGIN:VEVENT
DTSTART;TZID=America/New_York:20260201T100000
DTEND;TZID=America/New_York:20260201T120000
DTSTAMP:20260421T080044
CREATED:20260104T175446Z
LAST-MODIFIED:20260118T174350Z
UID:1184-1769940000-1769947200@rccghogwi.org
SUMMARY:Sunday Service
DESCRIPTION:Sunday Service. Starts at 10am.
URL:https://rccghogwi.org/event/sunday-service-3/
LOCATION:RCCG Household of God\, 6228 w washington st\, West Allis\, WI\, 53214\, United States
END:VEVENT
BEGIN:VEVENT
DTSTART;TZID=America/New_York:20260125T100000
DTEND;TZID=America/New_York:20260125T120000
DTSTAMP:20260421T080044
CREATED:20250502T195226Z
LAST-MODIFIED:20260118T174301Z
UID:1112-1769335200-1769342400@rccghogwi.org
SUMMARY:Sunday Service
DESCRIPTION:Sunday Service. Starts at 10am.
URL:https://rccghogwi.org/event/sunday-service-2/
LOCATION:RCCG Household of God\, 6228 w washington st\, West Allis\, WI\, 53214\, United States
ATTACH;FMTTYPE=image/jpeg:https://rccghogwi.org/wp-content/uploads/2025/05/PHOTO-2025-01-10-06-10-30-2.jpeg
END:VEVENT
BEGIN:VEVENT
DTSTART;TZID=America/New_York:20250807T080000
DTEND;TZID=America/New_York:20250808T160000
DTSTAMP:20260421T080044
CREATED:20250423T025649Z
LAST-MODIFIED:20250423T030413Z
UID:786-1754553600-1754668800@rccghogwi.org
SUMMARY:Global Leadership Summit 2025
DESCRIPTION:YOUR LEADERSHIP MATTERS & it matters now more than ever. How are you using it? Get your infusion of actionable leadership insights & inspiration. Learn from a diverse world-class faculty. Leverage the Summit as a resource to transform yourself and your community. Join with people from 110+ countries and 55+ languages who attend the Summit around the world. Attend RCCGHOG? Get special pricing at registration. We can’t wait to gather in August of 2025 for another great year of leadership insight. \n  \nLEARN MORE
URL:https://rccghogwi.org/event/global-leadership-summit-2025/
LOCATION:RCCG Household of God\, 6228 w washington st\, West Allis\, WI\, 53214\, United States
ATTACH;FMTTYPE=image/png:https://rccghogwi.org/wp-content/uploads/2025/04/GlobalLeadershipSummitHeader.png
END:VEVENT
BEGIN:VEVENT
DTSTART;TZID=America/New_York:20250525T100000
DTEND;TZID=America/New_York:20250525T120000
DTSTAMP:20260421T080044
CREATED:20250502T195355Z
LAST-MODIFIED:20250502T195355Z
UID:1114-1748167200-1748174400@rccghogwi.org
SUMMARY:Speak Up Service May
DESCRIPTION:Speak Up Sunday Service. Starts at 10am
URL:https://rccghogwi.org/event/speak-up-service-may/
LOCATION:RCCG Household of God\, 6228 w washington st\, West Allis\, WI\, 53214\, United States
ATTACH;FMTTYPE=image/jpeg:https://rccghogwi.org/wp-content/uploads/2025/05/PHOTO-2025-01-10-06-10-31.jpeg
END:VEVENT
BEGIN:VEVENT
DTSTART;TZID=America/New_York:20250511T100000
DTEND;TZID=America/New_York:20250511T120000
DTSTAMP:20260421T080044
CREATED:20250502T195047Z
LAST-MODIFIED:20250502T195047Z
UID:1110-1746957600-1746964800@rccghogwi.org
SUMMARY:Mothers Day Sunday Service
DESCRIPTION:Mothers Day Sunday Service. Starts at 10am
URL:https://rccghogwi.org/event/mothers-day-sunday-service/
LOCATION:RCCG Household of God\, 6228 w washington st\, West Allis\, WI\, 53214\, United States
ATTACH;FMTTYPE=image/jpeg:https://rccghogwi.org/wp-content/uploads/2025/05/PHOTO-2025-01-10-06-10-30-2.jpeg
END:VEVENT
BEGIN:VEVENT
DTSTART;TZID=America/New_York:20250504T100000
DTEND;TZID=America/New_York:20250504T120000
DTSTAMP:20260421T080044
CREATED:20250502T194738Z
LAST-MODIFIED:20250502T194802Z
UID:1107-1746352800-1746360000@rccghogwi.org
SUMMARY:Thanksgiving Sunday Service
DESCRIPTION:Thanksgiving Sunday Service. 10am
URL:https://rccghogwi.org/event/thanksgiving-sunday-service/
LOCATION:RCCG Household of God\, 6228 w washington st\, West Allis\, WI\, 53214\, United States
ATTACH;FMTTYPE=image/jpeg:https://rccghogwi.org/wp-content/uploads/2025/05/PHOTO-2025-01-10-06-10-30.jpeg
END:VEVENT
BEGIN:VEVENT
DTSTART;TZID=America/New_York:20250427T100000
DTEND;TZID=America/New_York:20250427T122500
DTSTAMP:20260421T080044
CREATED:20250423T025153Z
LAST-MODIFIED:20250423T025153Z
UID:783-1745748000-1745756700@rccghogwi.org
SUMMARY:Sunday Service
DESCRIPTION:Weekly Sunday service. Starts at 10:00 AM. Family Week
URL:https://rccghogwi.org/event/sunday-service/
LOCATION:WI
ATTACH;FMTTYPE=image/png:https://rccghogwi.org/wp-content/uploads/2025/04/Annual-Convention-e1745367271554.png
END:VEVENT
END:VCALENDAR